BEGIN:VCALENDAR
VERSION:2.0
PRODID:-//Jewish Boca - ECPv6.8.3//NONSGML v1.0//EN
CALSCALE:GREGORIAN
METHOD:PUBLISH
X-ORIGINAL-URL:https://jewishboca.org
X-WR-CALDESC:Events for Jewish Boca
REFRESH-INTERVAL;VALUE=DURATION:PT1H
X-Robots-Tag:noindex
X-PUBLISHED-TTL:PT1H
BEGIN:VTIMEZONE
TZID:America/New_York
BEGIN:DAYLIGHT
TZOFFSETFROM:-0500
TZOFFSETTO:-0400
TZNAME:EDT
DTSTART:20250309T070000
END:DAYLIGHT
BEGIN:STANDARD
TZOFFSETFROM:-0400
TZOFFSETTO:-0500
TZNAME:EST
DTSTART:20251102T060000
END:STANDARD
END:VTIMEZONE
BEGIN:VEVENT
DTSTART;TZID=America/New_York:20250328T180000
DTEND;TZID=America/New_York:20250328T210000
DTSTAMP:20260421T160727
CREATED:20250228T172551Z
LAST-MODIFIED:20250228T172551Z
UID:10002866-1743184800-1743195600@jewishboca.org
SUMMARY:An Ancient Tradition Confronts A Transformative Era with Rabbi Danny Schiff
DESCRIPTION:SHABBAT EVENING SERVICES: AN ANCIENT TRADITION CONFRONTS A TRANSFORMATIVE ERA WITH RABBI DANNY SCHIFF \nFriday\, March 28 | 6:00 pm – 9:00 pm \n6:00 pm Shabbat Service (FREE AND OPEN TO THE PUBLIC) \n7:30 pm Optional Dinner and Learning Experience (REGISTRATION/FEE) \nRabbi Dr. Danny Schiff is the Foundation Scholar at the Jewish Federation of Greater Pittsburgh and the founder and president of MOJI\, the Museum of Jewish Ideas. He is also a noted teacher\, author of Abortion in Judaism\, published by Cambridge University Press and has written a su \nSince the rise of the Digital Age in the 1990s\, human life has been radically transformed. That reality has profound implications for the future of Judaism. In the dinner and learning experience following Shabbat Evening Services\, Rabbi Schiff will describe why the Judaism of the twentieth century is crumbling\, and what comes next. \nDinner and Learning Experience: \nMembers: $36\nNon-Members: $41\nPrices increase by $5 per person as of Wednesday\, March 19.\nRegistration closes at 12:00 pm on Tuesday\, March 25. \nRegister for dinner at: https://tbeboca.shulcloud.com/event/an-ancient-tradition-confronts-a-transformative-era—dinner-and-learning-experience-witbstantial number of articles\, particularly in the field of Jewish law and ethics. Schiff is a former Board member of the City of Pittsburgh Ethics Board and of the Society of Jewish Ethics. \nJoin us in person at the Schaefer Family Campus or watch online. \nInfo page: https://tbeboca.org/event/shabbat-evening-services-an-ancient-tradition-confronts-a-transformative-era-with-rabbi-danny-schiff/ \n 
URL:https://jewishboca.org/events/an-ancient-tradition-confronts-a-transformative-era-with-rabbi-danny-schiff/
LOCATION:Temple Beth El of Boca Raton\, 333 S.W. 4th Avenue\, Boca Raton\, 33432\, United States
CATEGORIES:Community Events
ATTACH;FMTTYPE=image/png:https://jewishboca.org/wp-content/uploads/2025/02/2025-3v2-Shabbat-Rabbi-Schiff.png
ORGANIZER;CN="Temple Beth El of Boca Raton":MAILTO:sstallone@tbeboca.org
END:VEVENT
END:VCALENDAR