BEGIN:VCALENDAR
VERSION:2.0
PRODID:-//Jewish Boca - ECPv6.8.3//NONSGML v1.0//EN
CALSCALE:GREGORIAN
METHOD:PUBLISH
X-ORIGINAL-URL:https://jewishboca.org
X-WR-CALDESC:Events for Jewish Boca
REFRESH-INTERVAL;VALUE=DURATION:PT1H
X-Robots-Tag:noindex
X-PUBLISHED-TTL:PT1H
BEGIN:VTIMEZONE
TZID:America/New_York
BEGIN:DAYLIGHT
TZOFFSETFROM:-0500
TZOFFSETTO:-0400
TZNAME:EDT
DTSTART:20250309T070000
END:DAYLIGHT
BEGIN:STANDARD
TZOFFSETFROM:-0400
TZOFFSETTO:-0500
TZNAME:EST
DTSTART:20251102T060000
END:STANDARD
END:VTIMEZONE
BEGIN:VEVENT
DTSTART;TZID=America/New_York:20250324T093000
DTEND;TZID=America/New_York:20250324T113000
DTSTAMP:20260420T110712
CREATED:20240419T165413Z
LAST-MODIFIED:20240718T201629Z
UID:10002281-1742808600-1742815800@jewishboca.org
SUMMARY:Women's Philanthropy  Chapter 2 # 5
DESCRIPTION:
URL:https://jewishboca.org/events/womens-philanthropy-chapter-2-5-option-2/
LOCATION:Jewish Federation Campus in Levine\, 9901 Donna Klein Blvd\, Boca Raton\, FL\, 33428\, United States
CATEGORIES:Community Events,Federation Events,Women's
ORGANIZER;CN="Marissa Vinograd":MAILTO:marissav@bocafed.org
END:VEVENT
BEGIN:VEVENT
DTSTART;TZID=America/New_York:20250324T173000
DTEND;TZID=America/New_York:20250324T190000
DTSTAMP:20260420T110712
CREATED:20250214T152403Z
LAST-MODIFIED:20250214T152453Z
UID:10002820-1742837400-1742842800@jewishboca.org
SUMMARY:Baltimore Hometown event
DESCRIPTION:Cocktails and Conversation \nConnect with other Baltimore neighbors to learn about our growing\, vibrant South Palm Beach County Jewish community. \nMONDAY\, MARCH 24\, 2025 | 5:30 – 7:00 PM \nSeagate Towers | 220 MacFarlane Drive\, Delray Beach \nChairs: Elise & Stu Rubenstein \nBaltimore Hometown Event Committee \nBeth Goldsmith \nAileen & Marc Grebow \nIlene & Stephen Mackler \nHeidi & Kevin Stander \nFor additional information\, contact Jodi Faden at JodiF@bocafed.org or 516.902.4943. \nRSVP:\nRegistration is now closed.
URL:https://jewishboca.org/events/baltimore-hometown-event-2/
CATEGORIES:Community Events,Federation Events
ORGANIZER;CN="Jodi Faden":MAILTO:jodif@bocafed.org
END:VEVENT
END:VCALENDAR