BEGIN:VCALENDAR
VERSION:2.0
PRODID:-//Jewish Boca - ECPv6.8.3//NONSGML v1.0//EN
CALSCALE:GREGORIAN
METHOD:PUBLISH
X-WR-CALNAME:Jewish Boca
X-ORIGINAL-URL:https://jewishboca.org
X-WR-CALDESC:Events for Jewish Boca
REFRESH-INTERVAL;VALUE=DURATION:PT1H
X-Robots-Tag:noindex
X-PUBLISHED-TTL:PT1H
BEGIN:VTIMEZONE
TZID:America/New_York
BEGIN:DAYLIGHT
TZOFFSETFROM:-0500
TZOFFSETTO:-0400
TZNAME:EDT
DTSTART:20250309T070000
END:DAYLIGHT
BEGIN:STANDARD
TZOFFSETFROM:-0400
TZOFFSETTO:-0500
TZNAME:EST
DTSTART:20251102T060000
END:STANDARD
END:VTIMEZONE
BEGIN:VEVENT
DTSTART;VALUE=DATE:20250208
DTEND;VALUE=DATE:20250223
DTSTAMP:20260421T160615
CREATED:20240823T152550Z
LAST-MODIFIED:20240823T152550Z
UID:10002690-1738972800-1740268799@jewishboca.org
SUMMARY:2025 Judy Levis Krug Boca Raton Jewish Film Festival
DESCRIPTION:Enjoy our selection of new Jewish\, Israeli\, and International films\, including many special guests and premiere screenings!
URL:https://jewishboca.org/events/2025-judy-levis-krug-boca-raton-jewish-film-festival/
LOCATION:Movies of Delray\, 7421 W Atlantic Ave\, Delray Beach\, 33446\, United States
CATEGORIES:Community Events
END:VEVENT
BEGIN:VEVENT
DTSTART;TZID=America/New_York:20250219T100000
DTEND;TZID=America/New_York:20250219T140000
DTSTAMP:20260421T160615
CREATED:20240710T165048Z
LAST-MODIFIED:20240710T165048Z
UID:10002498-1739959200-1739973600@jewishboca.org
SUMMARY:JAFCO Blooming Hearts Luncheon & Card Party
DESCRIPTION:Join us for a vendor boutique\, card play\, and heartwarming program that includes a new JAFCO video presentation!
URL:https://jewishboca.org/events/jafco-blooming-hearts-luncheon-card-party/
LOCATION:Admirals Cove\, 200 Admirals Cove Blvd\, Jupiter\, FL\, 33477\, United States
CATEGORIES:Community Events
ORGANIZER;CN="JAFCO":MAILTO:info@jafco.org
END:VEVENT
BEGIN:VEVENT
DTSTART;TZID=America/New_York:20250219T173000
DTEND;TZID=America/New_York:20250219T193000
DTSTAMP:20260421T160615
CREATED:20250110T154925Z
LAST-MODIFIED:20250110T154925Z
UID:10002787-1739986200-1739993400@jewishboca.org
SUMMARY:JARC Board Social
DESCRIPTION:tbd
URL:https://jewishboca.org/events/jarc-board-social/
CATEGORIES:Community Events
END:VEVENT
BEGIN:VEVENT
DTSTART;TZID=America/New_York:20250219T190000
DTEND;TZID=America/New_York:20250219T210000
DTSTAMP:20260421T160615
CREATED:20241010T153958Z
LAST-MODIFIED:20250214T161847Z
UID:10002729-1739991600-1739998800@jewishboca.org
SUMMARY:The Solomon Society
DESCRIPTION:The Solomon Society is a brotherhood where fathers\, sons and friends unite through Jewish values to strengthen their community and inspire one another. Come learn about the inaugural launch of this important society and the impact it makes through our Federation locally\, in Israel and around the globe. \nWEDNESDAY\, FEBRUARY 19\, 2025 • 7:00 PM \nBoca Raton Innovation Campus (BRIC) – Presentation Hall\n4950 Communication Ave.\, Boca Raton \n \nGUEST SPEAKER: BRUCE SHERMAN Bruce Sherman\, renowned money manager\, is entering his eighth season as Principal Owner of the Miami Marlins. Mr. Sherman serves as Chairman of the Board\, representing the fourth ownership in Club history after receiving unanimous approval from Major League Baseball Owners to acquire the team effective October 2\, 2017. Mr. Sherman currently serves on Major League Baseball’s Executive Council\, Strategic Planning Committee\, and International Committee. \nConversation Moderated by Craig Mish\nHost of Newswire on the Sports Grid Network\, senior baseball correspondent for the Miami Herald \nCouvert: $125 per person \nCocktails and Heavy hors d’oeuvres | Dietary Laws Observed \nChairs: David Farber and Jeff Rosenkranz \nRich Steinberg\, Campaign Chair and David Pratt\, Co-Chair\, Campaign \nFor more information\, contact Janice Obuchowski at janiceob@bocafed.org or 561-852-3271  \nThis outreach program does not require a minimum gift to attend. Solomon Society members are those men who have made a minimum gift of $5\,000 to the Jewish Federation of South Palm Beach County’s Annual Campaign. \nThe IRS requires to inform you that the cost of your couvert is not tax-deductible. A COPY OF THE OFFICIAL REGISTRATION SC-02157 AND FINANCIAL INFORMATION MAY BE OBTAINED FROM THE DIVISION OF CONSUMER SERVICES BY CALLING TOLL FREE 1-800-HELP-FLA (436-7352) WITHIN THE STATE OF FLORIDA OR 850-410-3800 OUTSIDE OF THE STATE OF FLORIDA. REGISTRATION DOES NOT IMPLY ENDORSEMENT\, OR RECOMMENDATION BY THE STATE.\nRSVP:\nEvent Registration is now closed. Please call Janice Obuchowski at 561-852-3271 for information and to register.
URL:https://jewishboca.org/events/solomon-society-6/
LOCATION:BRIC Presentation Hall\, 4950 Communication Ave\, Boca Raton\, 33431\, United States
CATEGORIES:Community Events,Federation Events
ORGANIZER;CN="Janice Obuchowski":MAILTO:JaniceOb@jewishboca.org
END:VEVENT
END:VCALENDAR