BEGIN:VCALENDAR
VERSION:2.0
PRODID:-//Jewish Boca - ECPv6.8.3//NONSGML v1.0//EN
CALSCALE:GREGORIAN
METHOD:PUBLISH
X-WR-CALNAME:Jewish Boca
X-ORIGINAL-URL:https://jewishboca.org
X-WR-CALDESC:Events for Jewish Boca
REFRESH-INTERVAL;VALUE=DURATION:PT1H
X-Robots-Tag:noindex
X-PUBLISHED-TTL:PT1H
BEGIN:VTIMEZONE
TZID:America/New_York
BEGIN:DAYLIGHT
TZOFFSETFROM:-0500
TZOFFSETTO:-0400
TZNAME:EDT
DTSTART:20240310T070000
END:DAYLIGHT
BEGIN:STANDARD
TZOFFSETFROM:-0400
TZOFFSETTO:-0500
TZNAME:EST
DTSTART:20241103T060000
END:STANDARD
END:VTIMEZONE
BEGIN:VEVENT
DTSTART;TZID=America/New_York:20240825T133000
DTEND;TZID=America/New_York:20240825T163000
DTSTAMP:20260421T152302
CREATED:20240823T151719Z
LAST-MODIFIED:20240823T151719Z
UID:10002694-1724592600-1724603400@jewishboca.org
SUMMARY:Montana Tucker throws first pitch at Miami Marlins Jewish Community Celebration Game on August 25
DESCRIPTION:Join Montana Tucker as she throws the ceremonial first pitch before the Marlins take on the Chicago Cubs this Sunday\, as part of the Miami Marlins’ annual Jewish Community Celebration.\n\nSouth Florida native\, Tucker is an award-winning actress\, singer\, dancer\, philanthropist and social media activist.\n\nThe Marlins are offering special ticket packages that include a commemorative Jewish Community Celebration Marlins jersey and access to a pre-game talk with author Howard Megdal.\n\nAbout Montana Tucker: With nearly 14 million followers across her social media platforms\, Tucker actively uses her influence to combat antisemitism and other forms of hate. She has been honored by notable figures and organizations\, including New York City Mayor Eric Adams\, the City of Beverly Hills\, the Combating Antisemitism Movement\, the National Holocaust Museum\, Artists 4 Israel\, the Auschwitz Jewish Center and the International Influencer Awards\, among many others
URL:https://jewishboca.org/events/montana-tucker-throws-first-pitch-at-miami-marlins-jewish-community-celebration-game-on-august-25/
LOCATION:loanDepot park\, 501 Marlins Way\, Miami\, 33125\, United States
CATEGORIES:Community Events
ATTACH;FMTTYPE=image/jpeg:https://jewishboca.org/wp-content/uploads/2024/08/Montana-Tucker-with-flag.jpeg
END:VEVENT
END:VCALENDAR