BEGIN:VCALENDAR
VERSION:2.0
PRODID:-//Jewish Boca - ECPv6.8.3//NONSGML v1.0//EN
CALSCALE:GREGORIAN
METHOD:PUBLISH
X-WR-CALNAME:Jewish Boca
X-ORIGINAL-URL:https://jewishboca.org
X-WR-CALDESC:Events for Jewish Boca
REFRESH-INTERVAL;VALUE=DURATION:PT1H
X-Robots-Tag:noindex
X-PUBLISHED-TTL:PT1H
BEGIN:VTIMEZONE
TZID:UTC
BEGIN:STANDARD
TZOFFSETFROM:+0000
TZOFFSETTO:+0000
TZNAME:UTC
DTSTART:20220101T000000
END:STANDARD
END:VTIMEZONE
BEGIN:VEVENT
DTSTART;TZID=UTC:20221019T190000
DTEND;TZID=UTC:20221019T210000
DTSTAMP:20260421T143138
CREATED:20220818T195809Z
LAST-MODIFIED:20221020T200229Z
UID:10000215-1666206000-1666213200@jewishboca.org
SUMMARY:Federation Lecture with Chuck Lichtman
DESCRIPTION:Carlos the Jackal was the world’s most notorious and feared terrorist\, spending years on the Most Wanted List before his 1994 capture. He remained silent about his exploits and motivations– until now. The Jackal plays a role in Lichtman’s new novel\, The Sword of David\, an action packed thriller about an Israeli Special Forces officer. \nAbout the Author:\nCharles (Chuck) Lichtman serves on the national Board of Directors of Secure Community Network\, an arm of the Jewish Federations of North America\, as well as on the Board of Directors of the Jewish Federation of SPBC where he is Chair of the Security Committee. He has twice been recognized as “Lawyer of the Year\,” founded a national voter protection program\, is an avid photographer and pianist. He is currently working on his next novel. \nAn $18 donation to the 2023 UJA/Jewish Federation of South Palm Beach County Annual Campaign is required to attend and includes a copy of Lichtman’s book\, The Sword of David. Book signing immediately following the lecture. \nFor more information contact Elaina Moran elainam@bocafed.org. \n \nEvent Registration Closed
URL:https://jewishboca.org/events/federation-lecture-with-chuck-lichtman/
LOCATION:Zinman Hall
CATEGORIES:Community Events,Federation Events
ATTACH;FMTTYPE=image/jpeg:https://jewishboca.org/wp-content/uploads/2022/10/globe.jpg
ORGANIZER;CN="Elaina Moran":MAILTO:elainam@bocafed.org
END:VEVENT
END:VCALENDAR