BEGIN:VCALENDAR
VERSION:2.0
PRODID:-//Jewish Boca - ECPv6.8.3//NONSGML v1.0//EN
CALSCALE:GREGORIAN
METHOD:PUBLISH
X-ORIGINAL-URL:https://jewishboca.org
X-WR-CALDESC:Events for Jewish Boca
REFRESH-INTERVAL;VALUE=DURATION:PT1H
X-Robots-Tag:noindex
X-PUBLISHED-TTL:PT1H
BEGIN:VTIMEZONE
TZID:UTC
BEGIN:STANDARD
TZOFFSETFROM:+0000
TZOFFSETTO:+0000
TZNAME:UTC
DTSTART:20220101T000000
END:STANDARD
END:VTIMEZONE
BEGIN:VEVENT
DTSTART;VALUE=DATE:20221017
DTEND;VALUE=DATE:20221018
DTSTAMP:20260423T145319
CREATED:20220818T194852Z
LAST-MODIFIED:20221013T221827Z
UID:10000213-1665964800-1666051199@jewishboca.org
SUMMARY:Shmini Atzeret (Holiday)
DESCRIPTION:
URL:https://jewishboca.org/events/shmini-atzeret-holiday/
CATEGORIES:Community Events,Federation Events
END:VEVENT
END:VCALENDAR