BEGIN:VCALENDAR
VERSION:2.0
PRODID:-//Jewish Boca - ECPv6.8.3//NONSGML v1.0//EN
CALSCALE:GREGORIAN
METHOD:PUBLISH
X-ORIGINAL-URL:https://jewishboca.org
X-WR-CALDESC:Events for Jewish Boca
REFRESH-INTERVAL;VALUE=DURATION:PT1H
X-Robots-Tag:noindex
X-PUBLISHED-TTL:PT1H
BEGIN:VTIMEZONE
TZID:UTC
BEGIN:STANDARD
TZOFFSETFROM:+0000
TZOFFSETTO:+0000
TZNAME:UTC
DTSTART:20220101T000000
END:STANDARD
END:VTIMEZONE
BEGIN:VEVENT
DTSTART;TZID=UTC:20220919T173000
DTEND;TZID=UTC:20220919T193000
DTSTAMP:20260423T160509
CREATED:20220818T094403Z
LAST-MODIFIED:20221013T221549Z
UID:10000208-1663608600-1663615800@jewishboca.org
SUMMARY:Levis JCC BOD Cocktail Party
DESCRIPTION:Levis JCC BOD Cocktail Party
URL:https://jewishboca.org/events/levis-jcc-bod-cocktail-party/
CATEGORIES:Community Events
END:VEVENT
END:VCALENDAR